BEGIN:VCALENDAR
VERSION:2.0
PRODID:-//Intand Corporation//Tandem//EN
METHOD:PUBLISH
BEGIN:VEVENT
DTSTAMP:20260423T030825Z
DTSTART:20200115T013000Z
DTEND:20200115T030000Z
TRANSP:TRANSPARENT
PRIORITY:0
SUMMARY:[Cancelled] Boys Varsity Basketball
LOCATION:Vashon Island HS
DESCRIPTION:Groups:\nHS Basketball Boys Varsity\n\nSchools:\nVashon Island
  HS\nSeattle Christian School\n\nLocation:\nVashon Island HS\n\n
URL;VALUE=URI:https://seattlechristian.tandem.co/index.php?type=view&actio
 n=event&id=14307
CREATED:20191023T204125Z
LAST-MODIFIED:20200114T165129Z
UID:event-14307-seattlechristian@intand.com
END:VEVENT
END:VCALENDAR
