BEGIN:VCALENDAR
VERSION:2.0
PRODID:-//Intand Corporation//Tandem//EN
METHOD:PUBLISH
BEGIN:VEVENT
DTSTAMP:20260422T004309Z
DTSTART:20210923T003000Z
DTEND:20210923T020000Z
TRANSP:TRANSPARENT
PRIORITY:0
SUMMARY:HS Girls Soccer
LOCATION:Annie Wright Schools
DESCRIPTION:Depart: 3:30 pm\nReturn: 8:00 pm\n\nGroups:\nAnnie Wright\nHS 
 Soccer Girls Varsity\n\nSchools:\nSeattle Christian School\n\nLocation:\nA
 nnie Wright Schools\n\n
URL;VALUE=URI:https://seattlechristian.tandem.co/index.php?type=view&actio
 n=event&id=15634
CREATED:20210915T183854Z
LAST-MODIFIED:20210920T142242Z
UID:event-15634-seattlechristian@intand.com
END:VEVENT
END:VCALENDAR
