BEGIN:VCALENDAR
VERSION:2.0
PRODID:-//Intand Corporation//Tandem//EN
METHOD:PUBLISH
BEGIN:VEVENT
DTSTAMP:20260422T004158Z
DTSTART:20220209T011500Z
DTEND:20220209T023000Z
TRANSP:TRANSPARENT
PRIORITY:0
SUMMARY:Girls Varsity Basketball
LOCATION:Seattle Christian School
DESCRIPTION:Groups:\nHS Basketball Girls Varsity\n\nSchools:\nSeattle Chri
 stian School\nBellevue Christian\n\nLocation:\nSeattle Christian School\n\
 n
URL;VALUE=URI:https://seattlechristian.tandem.co/index.php?type=view&actio
 n=event&id=15869
CREATED:20211027T222813Z
LAST-MODIFIED:20211027T222813Z
UID:event-15869-seattlechristian@intand.com
END:VEVENT
END:VCALENDAR
