BEGIN:VCALENDAR
VERSION:2.0
PRODID:-//Intand Corporation//Tandem//EN
METHOD:PUBLISH
BEGIN:VEVENT
DTSTAMP:20260422T004146Z
DTSTART:20220322T220000Z
DTEND:20220323T003000Z
TRANSP:TRANSPARENT
PRIORITY:0
SUMMARY:Girls Golf
LOCATION:Gold Mountain Golf Club
DESCRIPTION:Depart: 1:00 pm\n\nGroups:\nHS Golf Girls Varsity\n\nSchools:\
 nSeattle Christian School\nKlahowya HS\n\nEarly Dismissal:\nSeattle Christ
 ian School: \nKlahowya HS: \n\nLocation:\nGold Mountain Golf Club\n\n
URL;VALUE=URI:https://seattlechristian.tandem.co/index.php?type=view&actio
 n=event&id=16074
CREATED:20220302T173713Z
LAST-MODIFIED:20220321T164142Z
UID:event-16074-seattlechristian@intand.com
END:VEVENT
END:VCALENDAR
