BEGIN:VCALENDAR
VERSION:2.0
PRODID:-//Intand Corporation//Tandem//EN
METHOD:PUBLISH
BEGIN:VEVENT
DTSTAMP:20260422T004209Z
DTSTART:20220418T220000Z
DTEND:20220419T003000Z
TRANSP:TRANSPARENT
PRIORITY:0
SUMMARY:Girls Golf
LOCATION:Riverbend Golf Course
DESCRIPTION:Groups:\nHS Golf Girls Varsity\n\nSchools:\nSeattle Christian 
 School\nCharles Wright Academy\n\nLocation:\nRiverbend Golf Course\n\n
URL;VALUE=URI:https://seattlechristian.tandem.co/index.php?type=view&actio
 n=event&id=16080
CREATED:20220302T174207Z
LAST-MODIFIED:20220302T174207Z
UID:event-16080-seattlechristian@intand.com
END:VEVENT
END:VCALENDAR
