BEGIN:VCALENDAR
VERSION:2.0
PRODID:-//Intand Corporation//Tandem//EN
METHOD:PUBLISH
BEGIN:VEVENT
DTSTAMP:20260422T004209Z
DTSTART:20220331T223000Z
DTEND:20220401T010000Z
TRANSP:TRANSPARENT
PRIORITY:0
SUMMARY:Girls Golf
LOCATION:Twin Rivers Golf Course
DESCRIPTION:Groups:\nHS Golf Girls Varsity\n\nSchools:\nSeattle Christian 
 School\nBellevue Christian\n\nLocation:\nTwin Rivers Golf Course\n\n
URL;VALUE=URI:https://seattlechristian.tandem.co/index.php?type=view&actio
 n=event&id=16174
CREATED:20220317T205535Z
LAST-MODIFIED:20220317T205535Z
UID:event-16174-seattlechristian@intand.com
END:VEVENT
END:VCALENDAR
