BEGIN:VCALENDAR
VERSION:2.0
PRODID:-//Intand Corporation//Tandem//EN
METHOD:PUBLISH
BEGIN:VEVENT
DTSTAMP:20260422T004209Z
DTSTART:20220419T010000Z
DTEND:20220419T020000Z
TRANSP:TRANSPARENT
PRIORITY:0
SUMMARY:HS Baseball
LOCATION:Cascade Christian
DESCRIPTION:Extra innings - to complete incomplete game on 3/30\n\nGroups:
 \nHS Baseball Boys Varsity\n\nSchools:\nSeattle Christian School\nCascade 
 Christian\n\nLocation:\nCascade Christian\n\n
URL;VALUE=URI:https://seattlechristian.tandem.co/index.php?type=view&actio
 n=event&id=16202
CREATED:20220404T223716Z
LAST-MODIFIED:20220404T223716Z
UID:event-16202-seattlechristian@intand.com
END:VEVENT
END:VCALENDAR
