BEGIN:VCALENDAR
VERSION:2.0
PRODID:-//Intand Corporation//Tandem//EN
METHOD:PUBLISH
BEGIN:VEVENT
DTSTAMP:20260422T004224Z
DTSTART:20220503T223000Z
DTEND:20220504T010000Z
TRANSP:TRANSPARENT
PRIORITY:0
SUMMARY:MS Softball
LOCATION:Cascade Christian
DESCRIPTION:Groups:\nMS Softball\n\nSchools:\nSeattle Christian School\nCa
 scade Christian\n\nLocation:\nCascade Christian\n\n
URL;VALUE=URI:https://seattlechristian.tandem.co/index.php?type=view&actio
 n=event&id=16246
CREATED:20220427T205600Z
LAST-MODIFIED:20220427T205600Z
UID:event-16246-seattlechristian@intand.com
END:VEVENT
END:VCALENDAR
